{"text_format":"3","workbook":"xlsx","n_sheets":4,"sheets":["input","mask","ccd","crossover"],"not_rendered":{"charts":4,"images":6,"macros":1,"defined_names":244},"read":"whole","date_system":"1900"}

{"sheet":"input","index":0,"n_rows":22,"n_cols":19,"rows_kept":22,"merged":[[3,1,3,2],[3,6,4,6],[3,7,4,8],[3,10,5,11],[3,12,4,12],[3,13,4,13],[3,14,4,14],[3,15,4,15],[4,1,4,2],[5,1,5,2],[6,1,6,2],[6,10,6,11],[7,1,7,2],[7,10,7,11],[8,1,8,2],[8,10,8,11],[9,1,9,2],[10,1,10,2],[12,0,12,5],[13,0,13,5],[17,0,17,5],[18,1,18,5],[20,2,20,3],[21,2,21,3]]}
[]
[]
[]
[null,"Conic constant K",null,{"v":-1,"d":"-1.00"},null,null,"ImageJ input","Mask",null,null,"SIT CAMERA and TEST STAGE SETTINGS",null,"Lonnie Robinson","Bill Thomas","Jeff Baldwin","Loaner Tester"]
[null,"Mask hole size",null,0.75,{"$nulls":14},"`"]
[null,"Mirror Dia",null,{"v":20,"d":"20.000"},null,null,53.947,{"$f":"mask!C31","v":0},{"$f":"mask!D31","v":{"v":0,"d":"0.000"}},{"$nulls":3},"Olympus E300","Olympus E300","Cannon 3ti EOS Rebel","Olympus E300"]
[null,"ROC",null,{"v":155.2201,"d":"155.220"},null,null,241.132,{"$f":"mask!C32","v":1},{"$f":"mask!D32","v":1.366},null,"Slit to Image Plane",null,{"v":3.2608,"d":"3.261"},{"v":3.2,"d":"3.200"},{"v":3.3093,"d":"3.309"},{"v":3.19955905511811,"d":"3.200"}]
[null,"chamfer inch",null,0.066,null,null,444.504,{"$f":"mask!C33","v":2},{"$f":"mask!D33","v":2.731},null,"Pixels/inch",null,4771,4771,5905,4771]
[null,"Slit to Image Plane",null,{"v":3.19955905511811,"d":"3.200"},null,null,661.595,{"$f":"mask!C34","v":3},{"$f":"mask!D34","v":4.097},null,"Max Horizontal Pixels",null,3264,3264,5148,3264]
[null,"K=Pixels/inch",null,4771,null,null,893.001,{"$f":"mask!C35","v":4},{"$f":"mask!D35","v":5.462}]
[null,"Max Horizontal Pixels",null,3264,null,null,1135.667,{"$f":"mask!C36","v":5},{"$f":"mask!D36","v":6.828}]
[{"$nulls":6},1379.483,{"$f":"mask!C37","v":6},{"$f":"mask!D37","v":8.193}]
["Warning close all other Excels before running MACRO!",{"$nulls":5},{"v":1630.3827,"d":"1630.383"},{"$f":"mask!C38","v":7},{"$f":"mask!D38","v":9.559},"Zones","h","FigureXp","Foucaults","prior Foucaults",{"$f":"ccd!S22","v":"ML"},{"$f":"ccd!T22","v":"ML Prior"},null,"Perfect  Foucault Conic"]
["control c MACRO to compute Mask Parallax & Foucaults",{"$nulls":5},{"v":1879.72,"d":"1879.720"},{"$f":"mask!C39","v":8},{"$f":"mask!D39","v":10.925},{"$f":"ccd!B7","v":{"v":0.13778437030063215,"d":"13.8%"}},{"$f":"ccd!C7","v":{"v":1.3687499345664795,"d":"1.369"}},{"$f":"ccd!O23","v":{"v":0,"d":"0.0000"}},{"$f":"ccd!J23","v":{"v":0.005112311522495167,"d":"0.0051"}},{"$f":"ccd!K23","v":{"v":0.005112311522495167,"d":"0.0051"}},{"$f":"ccd!S23","v":{"v":-2.1266273023263114E-3,"d":"-0.0021"}},{"$f":"ccd!T23","v":{"v":-2.1266273023263114E-3,"d":"-0.0021"}},null,{"$f":"ccd!D7","v":{"v":0.006034902642685264,"d":"0.0060"}}]
[{"$nulls":6},2127.622,{"$f":"mask!C40","v":9},{"$f":"mask!D40","v":{"v":12.29,"d":"12.290"}},{"$f":"ccd!B8","v":{"v":0.2754357237917051,"d":"27.5%"}},{"$f":"ccd!C8","v":{"v":2.7361784801467985,"d":"2.736"}},{"$f":"ccd!O24","v":{"v":0.023651257547867777,"d":"0.0237"}},{"$f":"ccd!J24","v":{"v":0.028763569070362944,"d":"0.0288"}},{"$f":"ccd!K24","v":{"v":0.028763569070362944,"d":"0.0288"}},{"$f":"ccd!S24","v":{"v":3.4432210342257193E-3,"d":"0.0034"}},{"$f":"ccd!T24","v":{"v":3.4432210342257193E-3,"d":"0.0034"}},null,{"$f":"ccd!D8","v":{"v":0.02411631185400101,"d":"0.0241"}}]
[{"$nulls":6},2367.493,{"$f":"mask!C41","v":10},{"$f":"mask!D41","v":13.656},{"$f":"ccd!B9","v":{"v":0.4131236491554856,"d":"41.3%"}},{"$f":"ccd!C9","v":{"v":4.1039703307105935,"d":"4.104"}},{"$f":"ccd!O25","v":{"v":0.049813860022972334,"d":"0.0498"}},{"$f":"ccd!J25","v":{"v":0.0549261715454675,"d":"0.0549"}},{"$f":"ccd!K25","v":{"v":0.0549261715454675,"d":"0.0549"}},{"$f":"ccd!S25","v":{"v":-5.3170313874678632E-4,"d":"-0.0005"}},{"$f":"ccd!T25","v":{"v":-5.3170313874678632E-4,"d":"-0.0005"}},null,{"$f":"ccd!D9","v":{"v":0.05425383850207807,"d":"0.0543"}}]
[{"$nulls":6},2598.452,{"$f":"mask!C42","v":11},{"$f":"mask!D42","v":15.021},{"$f":"ccd!B10","v":{"v":0.5506146360346719,"d":"55.1%"}},{"$f":"ccd!C10","v":{"v":5.46980579436843,"d":"5.470"}},{"$f":"ccd!O26","v":{"v":0.09156398276445837,"d":"0.0916"}},{"$f":"ccd!J26","v":{"v":0.09667629428695354,"d":"0.0967"}},{"$f":"ccd!K26","v":{"v":0.09667629428695354,"d":"0.0967"}},{"$f":"ccd!S26","v":{"v":-9.0306773283659048E-4,"d":"-0.0009"}},{"$f":"ccd!T26","v":{"v":-9.0306773283659048E-4,"d":"-0.0009"}},null,{"$f":"ccd!D10","v":{"v":0.09637532583765392,"d":"0.0964"}}]
[{"$f":"IF(ABS(ccd!G13)>=7,\"sheet ccd! mask alignment error\",\" \")","v":" "},{"$nulls":5},2817.291,{"$f":"mask!C43","v":12},{"$f":"mask!D43","v":16.387},{"$f":"ccd!B11","v":{"v":0.6880784109342855,"d":"68.8%"}},{"$f":"ccd!C11","v":{"v":6.835370934221191,"d":"6.835"}},{"$f":"ccd!O27","v":{"v":0.1476598802858301,"d":"0.1477"}},{"$f":"ccd!J27","v":{"v":0.15277219180832527,"d":"0.1528"}},{"$f":"ccd!K27","v":{"v":0.15277219180832527,"d":"0.1528"}},{"$f":"ccd!S27","v":{"v":1.0647871565260536E-3,"d":"0.0011"}},{"$f":"ccd!T27","v":{"v":1.0647871565260536E-3,"d":"0.0011"}},null,{"$f":"ccd!D11","v":{"v":0.150503368469663,"d":"0.1505"}}]
[{"$f":"IF(crossover!M14>0,crossover!M14,\" \")","v":" "},{"$f":"IF(crossover!M14>0,\"Ray Crossover error\", \" \")","v":" "},{"$nulls":4},3020.939,{"$f":"mask!C44","v":13},{"$f":"mask!D44","v":17.752},{"$f":"ccd!B12","v":{"v":0.8252823096573436,"d":"82.5%"}},{"$f":"ccd!C12","v":{"v":8.19835446413605,"d":"8.198"}},{"$f":"ccd!O28","v":{"v":0.21260046263758176,"d":"0.2126"}},{"$f":"ccd!J28","v":{"v":0.21771277416007692,"d":"0.2177"}},{"$f":"ccd!K28","v":{"v":0.21771277416007692,"d":"0.2177"}},{"$f":"ccd!S28","v":{"v":0,"d":"0.0000"}},{"$f":"ccd!T28","v":{"v":0,"d":"0.0000"}},null,{"$f":"ccd!D12","v":{"v":0.2165087379779407,"d":"0.2165"}}]
[{"$nulls":6},3204.512,{"$f":"mask!C45","v":14},{"$f":"mask!D45","v":19.118},{"$f":"ccd!B13","v":{"v":0.962396298923555,"d":"96.2%"}},{"$f":"ccd!C13","v":{"v":9.560444833506596,"d":"9.560"}},{"$f":"ccd!O29","v":{"v":0.2893151028862153,"d":"0.2893"}},{"$f":"ccd!J29","v":{"v":0.2944274144087105,"d":"0.2944"}},{"$f":"ccd!K29","v":{"v":0.2944274144087105,"d":"0.2944"}},{"$f":"ccd!S29","v":{"v":-0.001204036182136159,"d":"-0.0012"}},{"$f":"ccd!T29","v":{"v":-0.001204036182136159,"d":"-0.0012"}},null,{"$f":"ccd!D13","v":{"v":0.29442741440871045,"d":"0.2944"}}]
[null,null,"ML pivot zone",null,6]
[null,null,"ML up/down bias",null,{"v":0,"d":"0.000"},{"$nulls":10}," "]

{"sheet":"mask","index":1,"n_rows":46,"n_cols":8,"rows_kept":46,"merged":[[17,1,17,2]]}
[]
[]
[null,"Mask hole size",{"$f":"input!D5","v":0.75}]
[null,"Mirror Dia",{"$f":"input!D6","v":{"v":20,"d":"20.000"}}]
[null,"ROC",{"$f":"input!D7","v":155.2201}]
[null,"chamfer inches",{"$f":"input!D8","v":{"v":0.066,"d":"0.0660"}}]
[null,"K",{"$f":"input!D4","v":{"v":-1,"d":"-1.000"}}]
[null,"Mask number of zones",7]
[null,"Mask one turn",0.05]
[null,"Mask edge",{"$f":"C4/2-C6","v":9.934}]
[null,"Mask edge hole",{"$f":"C10-C3/2","v":9.559}]
[null,"Mask hole spacing",{"$f":"C11/C8","v":{"v":1.3655714285714284,"d":"1.3656"}}]
[null,"Mask Sagitta - S",{"$f":"C10^2/$C$5/(1+SQRT(1-($C$7+1)*C10^2/$C$5^2))","v":{"v":0.3178852352240463,"d":"0.31789"}}]
[null,"between holes",{"$f":"C12-C3","v":{"v":0.6155714285714284,"d":"0.616"}}]
[null,"ROC-Sagitta",{"$f":"C5-C13","v":{"v":154.90221476477595,"d":"154.902"}}]
[null,"optical dia",{"$f":"C10*2","v":19.868}]
[]
[null,"Zones",null,"t mask","h","z","z'","Control 'p' solve 0=t-T"]
[null,0,{"$f":"D19/$C$10","v":{"v":0,"d":"0.0%"}},{"v":0,"d":"0.000"},null,null,0]
[null,{"$f":"B19+1","v":1},{"$f":"E20/$C$10","v":{"v":0.13778437030063215,"d":"13.8%"}},{"$f":"D32","v":1.366},{"v":1.3687499345664795,"d":"1.3687"},{"$f":"E20^2/$C$5/(1+SQRT(1-($C$7+1)*E20^2/$C$5^2))","v":{"v":0.006034902642685264,"d":"0.00603"}},{"$f":"E20/($C$5-F20*(1+$C$7))","v":{"v":8.818123004472227E-3,"d":"0.0088181"}},{"$f":"-G20*$C$13+F20*G20+E20-D20","v":{"v":-2.520850195253388e-11,"d":"-2.521E-11"}}]
[null,2,{"$f":"E21/$C$10","v":{"v":0.2754357237917051,"d":"27.5%"}},{"$f":"D33","v":2.731},{"v":2.7361784801467985,"d":"2.7362"},{"$f":"E21^2/$C$5/(1+SQRT(1-($C$7+1)*E21^2/$C$5^2))","v":{"v":0.02411631185400101,"d":"0.02412"}},{"$f":"E21/($C$5-F21*(1+$C$7))","v":{"v":0.017627733007173674,"d":"0.0176277"}},-1.7319479184152442E-13]
[null,3,{"v":0.4131236491554856,"d":"41.3%"},4.097,{"v":4.1039703307105935,"d":"4.1040"},{"v":0.05425383850207807,"d":"0.05425"},{"v":0.026439683589371436,"d":"0.0264397"},-2.9594104944408173E-12]
[null,4,{"v":0.5506146360346719,"d":"55.1%"},5.462,{"v":5.46980579436843,"d":"5.4698"},{"v":0.09637532583765392,"d":"0.09638"},{"v":0.035239030218176835,"d":"0.0352390"},-2.206235194535111e-11]
[null,5,{"v":0.6880784109342855,"d":"68.8%"},6.828,{"v":6.835370934221191,"d":"6.8354"},{"v":0.150503368469663,"d":"0.15050"},{"v":0.044036635295436555,"d":"0.0440366"},-1.412203687323199e-13]
[null,6,{"v":0.8252823096573436,"d":"82.5%"},8.193,{"v":8.19835446413605,"d":"8.1984"},{"v":0.2165087379779407,"d":"0.21651"},{"v":0.05281760844205132,"d":"0.0528176"},-7.212008767965017e-13]
[null,7,{"v":0.962396298923555,"d":"96.2%"},9.559,{"v":9.560444833506596,"d":"9.5604"},{"v":0.29442741440871045,"d":"0.29443"},{"v":0.061592827433474114,"d":"0.0615928"},-2.8475000135586015E-12]
[null,null,{"v":1,"d":"100.0%"},{"$f":"C10","v":9.934},{"$f":"D27","v":{"v":9.934,"d":"9.9340"}}]
[]
[]
[{"$nulls":3},"rounded 3 places"]
[null,"left",0,{"$f":"ROUND($C$12*C31,3)","v":{"v":0,"d":"0.000"}}]
[null,null,{"$f":"C31+1","v":1},1.366]
[null,null,2,2.731]
[null,null,3,4.097]
[null,null,4,5.462]
[null,null,5,6.828]
[null,null,6,8.193]
[null,"center",7,9.559]
[null,null,8,10.925]
[null,null,9,{"v":12.29,"d":"12.290"}]
[null,null,10,13.656]
[null,null,11,15.021]
[null,null,12,16.387]
[null,null,13,17.752]
[null,"right",14,19.118]
[{"$nulls":3},{"$f":"D45+$C$3","v":19.868}]

{"sheet":"ccd","index":2,"n_rows":44,"n_cols":20,"rows_kept":44,"merged":[[4,8,5,8],[4,9,5,9],[4,10,5,10],[4,11,5,11],[4,12,5,12],[4,13,5,13],[15,9,15,13],[19,18,19,19],[43,13,47,15],[53,9,53,13]]}
[]
[]
[null,"Diameter","R","2R","max pixel width","width pixel center","Slit to Image Plane","ImagJ input",null,null,"k=pixels/ inch","K","Airy disk"]
[null,{"$f":"mask!C16","v":19.868},{"$f":"mask!C5","v":155.2201},{"$f":"C4*2","v":{"v":310.4402,"d":"310.44"}},{"$f":"input!D11","v":3264},{"$f":"E4/2","v":1632},{"$f":"input!D9","v":{"v":3.19955905511811,"d":"3.1996"}},{"$f":"input!G6","v":{"v":53.947,"d":"53.9470"}},null,null,{"$f":"input!D10","v":4771},{"$f":"input!D4","v":-1},{"$f":"1.22*0.00054864/25.4*$C$4/2/$B$4","v":{"v":1.029383952889068E-4,"d":"0.0001029"}}]
[null,"zones %","h","Z Foucault Moving","z (slump)",null,null,{"$f":"input!G7","v":{"v":241.132,"d":"241.1320"}},"Sixtests    Ym ","Sixtests source distance w/t l","Sixtests offset X","upper bonds","lower bonds","outside bonds +/-"]
[null,{"$f":"C6/($B$4/2)","v":{"v":0,"d":"0.0%"}},{"v":0,"d":"0.00000"},{"v":0,"d":"0.0000"},null,null,"diff",{"$f":"input!G8","v":{"v":444.504,"d":"444.5040"}},{"$nulls":7},"delta"]
[null,{"v":0.13778437030063215,"d":"13.8%"},{"$f":"mask!E20","v":{"v":1.3687499345664795,"d":"1.368750"}},{"$f":"-$L$4*C7^2/$C$4/(1+SQRT(1-(1+$L$4)*C7^2/$C$4^2))","v":{"v":0.006034902642685264,"d":"0.0060"}},{"$f":"C7^2/$C$4/(1+SQRT(1-(1+$L$4)*C7^2/$C$4^2))","v":{"v":0.006034902642685264,"d":"0.0060349"}},null,{"$f":"$G$14*2-H10-H12","v":{"v":1.562428571428427,"d":"1.5624"}},{"$f":"input!G9","v":{"v":661.595,"d":"661.5950"}},{"$f":"(H10-H12)/2/$K$4","v":{"v":-0.052424753720394054,"d":"-0.0524248"}},{"$f":"C4+F21","v":{"v":156.5841053422401,"d":"156.584105"}},{"$f":"E21","v":{"v":4.563564397358212,"d":"4.56356440"}},{"$f":"D7+P7","v":{"v":0.029381910897548626,"d":"0.0294"}},{"$f":"D7-P7","v":{"v":-0.017312105612178098,"d":"-0.0173"}},{"$f":"IF(J23-L7>0,J23-L7,IF(J23-M7<0,J23-M7,\"ok\"))","v":"ok"},{"$f":"J23-D7","v":{"v":-0.000922591120190097,"d":"-0.0009"}},{"$f":"2*$M$4*$C$4/C7","v":{"v":0.023347008254863362,"d":"0.02335"}}]
[null,{"v":0.2754357237917051,"d":"27.5%"},{"$f":"mask!E21","v":{"v":2.7361784801467985,"d":"2.736178"}},{"v":0.02411631185400101,"d":"0.0241"},{"$f":"C8^2/$C$4/(1+SQRT(1-(1+$L$4)*C8^2/$C$4^2))","v":{"v":0.02411631185400101,"d":"0.0241163"}},null,{"$f":"$G$14*2-H9-H13","v":{"v":-2.5235714285713584,"d":"-2.5236"}},{"$f":"input!G10","v":{"v":893.001,"d":"893.0010"}},{"$f":"(H9-H13)/2/$K$4","v":{"v":-0.10395671766925173,"d":"-0.1039567"}},null,null,{"v":0.035795453493713346,"d":"0.0358"},{"v":0.012437170214288674,"d":"0.0124"},{"$f":"IF(J24-L8>0,J24-L8,IF(J24-M8<0,J24-M8,\"ok\"))","v":"ok"},{"$f":"J24-D8","v":{"v":0.004647257216361934,"d":"0.0046"}},{"v":0.011679141639712336,"d":"0.01168"}]
[null,{"v":0.4131236491554856,"d":"41.3%"},{"$f":"mask!E22","v":{"v":4.1039703307105935,"d":"4.103970"}},{"v":0.05425383850207807,"d":"0.0543"},{"v":0.05425383850207807,"d":"0.0542538"},null,{"$f":"$G$14*2-H8-H14","v":{"v":0.27142857142871435,"d":"0.2714"}},{"$f":"input!G11","v":{"v":1135.667,"d":"1135.6670"}},{"$f":"(H8-H14)/2/$K$4","v":{"v":-0.15452651435757703,"d":"-0.1545265"}},null,null,{"v":0.06204049713896791,"d":"0.0620"},{"v":0.04646717986518824,"d":"0.0465"},"ok",{"v":6.7233304338942812E-4,"d":"0.0007"},{"v":0.007786658636889838,"d":"0.00779"}]
[null,{"v":0.5506146360346719,"d":"55.1%"},{"$f":"mask!E23","v":{"v":5.46980579436843,"d":"5.469806"}},{"v":0.09637532583765392,"d":"0.0964"},{"v":0.09637532583765392,"d":"0.0963753"},null,{"$f":"$G$14*2-H7-H15","v":{"v":0.718428571428376,"d":"0.7184"}},{"$f":"input!G12","v":{"v":1379.483,"d":"1379.4830"}},{"$f":"(H7-H15)/2/$K$4","v":{"v":-0.2029822888283379,"d":"-0.2029823"}},null,null,{"v":0.10221762028512198,"d":"0.1022"},{"v":0.09053303139018586,"d":"0.0905"},"ok",{"v":3.0096844929962396E-4,"d":"0.0003"},{"v":0.005842294447468058,"d":"0.00584"}]
[null,{"v":0.6880784109342855,"d":"68.8%"},{"$f":"mask!E24","v":{"v":6.835370934221191,"d":"6.835371"}},{"v":0.150503368469663,"d":"0.1505"},{"v":0.150503368469663,"d":"0.1505034"},null,{"$f":"$G$14*2-H6-H16","v":{"v":-1.0295714285716713,"d":"-1.0296"}},{"$f":"input!G13","v":1630.3827},{"$f":"(H6-H16)/2/$K$4","v":{"v":-0.24866767973171244,"d":"-0.2486677"}},null,null,{"v":0.15517849383282054,"d":"0.1552"},{"v":0.14582824310650547,"d":"0.1458"},"ok",{"v":2.268823338662268E-3,"d":"0.0023"},{"v":0.004675125363157532,"d":"0.00468"}]
[null,{"v":0.8252823096573436,"d":"82.5%"},{"$f":"mask!E25","v":{"v":8.19835446413605,"d":"8.198354"}},{"v":0.2165087379779407,"d":"0.2165"},{"v":0.2165087379779407,"d":"0.2165087"},null,{"$f":"$G$14*2-H5-H17","v":{"v":-1.3055714285715112,"d":"-1.3056"}},{"$f":"input!G14","v":{"v":1879.72,"d":"1879.7200"}},{"$f":"(H5-H17)/2/$K$4","v":{"v":-0.291323307482708,"d":"-0.2913233"}},null,null,{"v":0.22040661970054257,"d":"0.2204"},{"v":0.21261085625533885,"d":"0.2126"},"ok",{"v":1.2040361821362144E-3,"d":"0.0012"},{"v":0.003897881722601861,"d":"0.00390"}]
[null,{"v":0.962396298923555,"d":"96.2%"},{"$f":"mask!E26","v":{"v":9.560444833506596,"d":"9.560445"}},{"v":0.29442741440871045,"d":"0.2944"},{"v":0.29442741440871045,"d":"0.2944274"},null,{"$f":"$G$14*2-H4-H18","v":{"v":2.306428571428114,"d":"2.3064"}},{"$f":"input!G15","v":{"v":2127.622,"d":"2127.6220"}},{"$f":"(H4-H18)/2/$K$4","v":{"v":-0.3301786837141061,"d":"-0.3301787"}},null,null,{"v":0.297769959298376,"d":"0.2978"},{"v":0.2910848695190449,"d":"0.2911"},"ok",{"v":0,"d":"0.0000"},{"v":3.3425448896655923E-3,"d":"0.00334"}]
[null,{"v":1,"d":"100.0%"},{"$f":"mask!E27","v":{"v":9.934,"d":"9.934000"}},{"v":0.3178852352240463,"d":"0.31789"},{"$f":"SUM(G7:G13)","v":{"v":-9.094947017729282e-13,"d":"-0.0000"}},{"v":1.4285714147360896E-5,"d":"0.00"},{"$f":"H11+F14","v":{"v":1630.3827142857142,"d":"1630.38"}},{"$f":"input!G16","v":{"v":2367.493,"d":"2367.4930"}}]
[{"$nulls":7},{"$f":"input!G17","v":{"v":2598.452,"d":"2598.4520"}}]
[{"$nulls":7},{"$f":"input!G18","v":{"v":2817.291,"d":"2817.2910"}},null,{"$f":"IF(ABS(G13)>=7,\"Possible mask alignment error\",\"mask alignment OK\")","v":"mask alignment OK"}]
[{"$nulls":7},{"$f":"input!G19","v":{"v":3020.939,"d":"3020.9390"}}]
[{"$nulls":7},{"$f":"input!G20","v":{"v":3204.512,"d":"3204.5120"}}]
[]
[{"$nulls":4},"q w/t n","varying l to solve ","solver zero Fig-2: 14",{"$nulls":8},"ML relative",{"$f":"IF(INT(input!E21)<1,1,IF(INT(input!E21)>7,7,input!E21))","v":6},null,"D_rel-I_rel"]
[{"$nulls":4},{"$f":"F21+$G$4","v":{"v":4.563564397358212,"d":"4.56356"}},{"v":1.3640053422401017,"d":"1.36401"},{"$f":"$I$13-H29","v":{"v":1.6631140908884845E-12,"d":"1.663E-12"}},{"$nulls":8},"ML adj",{"$f":"input!E22","v":0},null,{"$f":"INDEX($D$7:$D$13,$Q$20)-INDEX($J$23:$J$29,$Q$20)","v":{"v":-1.2040361821362144E-3,"d":"-0.00120"}},{"$f":"INDEX($D$7:$D$13,$Q$20)-INDEX($K$23:$K$29,$Q$20)","v":{"v":-1.2040361821362144E-3,"d":"-0.00120"}}]
[null,"varying z to solve","z' Fig-4","e Fig-1: 2","c Fig-1: 7","N Fig-1: 8","Yn Fig-1: 9","Yz Fig_2: 12","solver zero Fig-2: 14","Z Foucault cntr f Fig-4","prior Z",null,"Zones","h","FigureXp","Zones","lower","upper","ML","ML Prior"]
[null,{"v":0.005112311522495167,"d":"0.0051123"},{"$f":"C7/($C$4-B23*(1+$L$4))","v":{"v":8.818123004472227E-3,"d":"0.00882"}},{"$f":"-($F$21+$C$4)*C23+B23*C23+C7","v":-0.011982885894787687},{"$f":"-D23*C23/(1+C23^2)","v":{"v":1.0565834585048615E-4,"d":"0.0001057"}},{"$f":"$F$21-2*E23+$C$4","v":156.5838940255484},{"$f":"-2*E23/C23","v":-0.023963908372995054},{"$f":"G23-(C7-G23)*($E$21-F23+$C$4)/(F23-B23)","v":{"v":-0.05242475372039461,"d":"-0.0524248"}},{"$f":"H23-I7","v":{"v":-5.551115123125783e-16,"d":"-5.551E-16"}},{"$f":"(C7-C23*$C$4+B23*C23)/C23","v":{"v":0.005112311522495167,"d":"0.0051"}},{"v":0.005112311522495167,"d":"0.0051"},null,{"$f":"B7","v":{"v":0.13778437030063215,"d":"13.8%"}},{"v":1.3687499345664795,"d":"1.369"},{"$f":"J23-$J$23","v":{"v":0,"d":"0.000"}},{"$f":"B7","v":{"v":0.13778437030063215,"d":"13.8%"}},{"$f":"-P7","v":{"v":-0.023347008254863362,"d":"-0.02335"}},{"$f":"P7","v":{"v":0.023347008254863362,"d":"0.02335"}},{"$f":"J23-D7+$S$21+$Q$21","v":{"v":-2.1266273023263114E-3,"d":"-0.0021"}},{"$f":"K23-D7+$T$21+$Q$21","v":{"v":-2.1266273023263114E-3,"d":"-0.0021"}}]
[null,{"v":0.028763569070362947,"d":"0.0287636"},{"v":0.017627733007173674,"d":"0.01763"},-0.023537285477461367,{"v":4.1478009659947843E-4,"d":"0.0004148"},156.5832757820469,-0.047059947689323645,{"v":-0.10395670813546143,"d":"-0.1039567"},{"v":9.5337902988879009E-9,"d":"9.534E-09"},{"$f":"(C8-C24*$C$4+B24*C24)/C24","v":{"v":0.028763569070362944,"d":"0.0288"}},{"v":0.028763569070362944,"d":"0.0288"},null,{"v":0.2754357237917051,"d":"27.5%"},{"v":2.7361784801467985,"d":"2.736"},{"$f":"J24-$J$23","v":{"v":0.023651257547867777,"d":"0.024"}},{"v":0.2754357237917051,"d":"27.5%"},{"v":-0.011679141639712336,"d":"-0.01168"},{"v":0.011679141639712336,"d":"0.01168"},{"$f":"J24-D8+$S$21+$Q$21","v":{"v":3.4432210342257193E-3,"d":"0.0034"}},{"$f":"K24-D8+$T$21+$Q$21","v":{"v":3.4432210342257193E-3,"d":"0.0034"}}]
[null,{"v":0.0549261715454675,"d":"0.0549262"},{"v":0.026439683589371436,"d":"0.02644"},-0.03461163906660225,{"v":9.144815108493926E-4,"d":"0.0009145"},156.5822763792184,-0.06917492092961412,{"v":-0.15452650446330868,"d":"-0.1545265"},{"v":9.8942683490754746E-9,"d":"9.894E-09"},{"v":0.0549261715454675,"d":"0.0549"},{"v":0.0549261715454675,"d":"0.0549"},null,{"v":0.4131236491554856,"d":"41.3%"},{"v":4.1039703307105935,"d":"4.104"},{"v":0.049813860022972334,"d":"0.050"},{"v":0.4131236491554856,"d":"41.3%"},{"v":-0.007786658636889838,"d":"-0.00779"},{"v":0.007786658636889838,"d":"0.00779"},{"v":-5.3170313874678632E-4,"d":"-0.0005"},{"v":-5.3170313874678632E-4,"d":"-0.0005"}]
[null,{"v":0.09667629428697874,"d":"0.0966763"},{"v":0.035239030218176835,"d":"0.03524"},-0.04465944661719323,{"v":1.5718037398819045E-3,"d":"0.0015718"},156.58096173476034,{"v":-0.08920811555541298,"d":"-0.0892081"},{"v":-0.2029822788882824,"d":"-0.2029823"},{"v":9.94005550092325e-09,"d":"9.940E-09"},{"v":0.09667629428695354,"d":"0.0967"},{"v":0.09667629428695354,"d":"0.0967"},null,{"v":0.5506146360346719,"d":"55.1%"},{"v":5.46980579436843,"d":"5.470"},{"v":0.09156398276445837,"d":"0.092"},{"v":0.5506146360346719,"d":"55.1%"},{"v":-0.005842294447468058,"d":"-0.00584"},{"v":0.005842294447468058,"d":"0.00584"},{"v":-9.0306773283659048E-4,"d":"-0.0009"},{"v":-9.0306773283659048E-4,"d":"-0.0009"}]
[null,{"v":0.15277219180832527,"d":"0.1527722"},{"v":0.044036635295436555,"d":"0.04404"},-0.05333863250330673,{"v":2.3443077658963918E-3,"d":"0.0023443"},{"v":156.5794167267083,"d":"156.579417"},-0.10647079415439938,{"v":-0.24866767023202457,"d":"-0.2486677"},{"v":9.4996878696740339E-9,"d":"9.500E-09"},{"v":0.15277219180832527,"d":"0.1528"},{"v":0.15277219180832527,"d":"0.1528"},null,{"v":0.6880784109342855,"d":"68.8%"},{"v":6.835370934221191,"d":"6.835"},{"v":0.1476598802858301,"d":"0.148"},{"v":0.6880784109342855,"d":"68.8%"},{"v":-0.004675125363157532,"d":"-0.00468"},{"v":0.004675125363157532,"d":"0.00468"},{"v":1.0647871565260536E-3,"d":"0.0011"},{"v":1.0647871565260536E-3,"d":"0.0011"}]
[null,{"v":0.21771277416007692,"d":"0.2177128"},{"v":0.05281760844205132,"d":"0.05282"},-0.06054443202088322,{"v":3.1889159856606426E-3,"d":"0.0031889"},156.57772751026877,-0.12075200220999602,{"v":-0.2913232977748848,"d":"-0.2913233"},{"v":9.7078232119685026E-9,"d":"9.708E-09"},{"v":0.21771277416007692,"d":"0.2177"},{"v":0.21771277416007692,"d":"0.2177"},null,{"v":0.8252823096573436,"d":"82.5%"},{"v":8.19835446413605,"d":"8.198"},{"v":0.21260046263758176,"d":"0.213"},{"v":0.8252823096573436,"d":"82.5%"},{"v":-0.003897881722601861,"d":"-0.00390"},{"v":0.003897881722601861,"d":"0.00390"},{"v":0,"d":"0.0000"},{"v":0,"d":"0.0000"}]
[null,{"v":0.29442741440871045,"d":"0.2944274"},{"v":0.061592827433474114,"d":"0.06159"},-0.06587832873557176,{"v":0.00404229736533447,"d":"0.0040423"},{"v":156.57602074750943,"d":"156.576021"},-0.13125870442302787,{"v":-0.3301786837157692,"d":"-0.3301787"},null,{"v":0.2944274144087105,"d":"0.2944"},{"v":0.2944274144087105,"d":"0.2944"},null,{"v":0.962396298923555,"d":"96.2%"},{"v":9.560444833506596,"d":"9.560"},{"v":0.2893151028862153,"d":"0.289"},{"v":0.962396298923555,"d":"96.2%"},{"v":-3.3425448896655923E-3,"d":"-0.00334"},{"v":3.3425448896655923E-3,"d":"0.00334"},{"v":-0.001204036182136159,"d":"-0.0012"},{"v":-0.001204036182136159,"d":"-0.0012"}]
{"$rows_empty":14}
[{"$nulls":13},"[2] Optical Shop Testing Edited by Daniel  Malacara, Wiley and Sons, 1978, Appendix 1 page 479, 482"]

{"sheet":"crossover","index":3,"n_rows":29,"n_cols":13,"rows_kept":29,"merged":[[4,8,5,8],[4,9,5,9],[4,10,5,10],[4,11,5,11],[4,12,5,12],[4,13,5,13],[13,10,13,11],[91,9,91,13]]}
[]
[]
[null,"Diameter","R","2R","max pixel width","width pixel center","Slit to Image Plane","ImagJ input",null,null,"k=pixels/ inch","K"]
[null,{"$f":"mask!C16","v":19.868},{"$f":"mask!C5","v":155.2201},{"$f":"C4*2","v":{"v":310.4402,"d":"310.44"}},{"$f":"input!D11","v":3264},{"$f":"E4/2","v":1632},{"$f":"input!D9","v":{"v":3.19955905511811,"d":"3.1996"}},{"$f":"$F$4+H29*$K$4","v":{"v":56.717499992065086,"d":"56.71750"}},null,null,{"$f":"input!D10","v":4771},{"$f":"input!D4","v":-1}]
[null,"zones %","h","Z Foucault Moving","z (slump)",null,null,{"$f":"$F$4+H28*$K$4","v":{"v":241.48354145238977,"d":"241.48354"}},"Sixtests    Ym  ","Sixtests source distance w/t l","Sixtests offset X"]
[null,{"$f":"C6/($B$4/2)","v":{"v":0,"d":"0.0%"}},{"v":0,"d":"0.00000"},{"v":0,"d":"0.0000"},{"$nulls":3},{"$f":"$F$4+H27*$K$4","v":{"v":444.64348813418314,"d":"444.64349"}}]
[null,{"v":0.13778437030063215,"d":"13.8%"},{"$f":"mask!E20","v":{"v":1.3687499345664795,"d":"1.368750"}},{"$f":"-$L$4*C7^2/$C$4/(1+SQRT(1-(1+$L$4)*C7^2/$C$4^2))","v":{"v":0.006034902642685264,"d":"0.0060"}},{"$f":"C7^2/$C$4/(1+SQRT(1-(1+$L$4)*C7^2/$C$4^2))","v":{"v":0.006034902642685264,"d":"0.0060349"}},null,null,{"$f":"$F$4+H26*$K$4","v":{"v":663.4693182663576,"d":"663.46932"}},{"$f":"(H10-H12)/2/$K$4","v":{"v":-0.05240831785342171,"d":"-0.0524083"}},{"$f":"C4+F21","v":{"v":156.5841053422401,"d":"156.584105"}},{"$f":"E21","v":{"v":4.563564397358212,"d":"4.56356440"}}]
[null,{"v":0.2754357237917051,"d":"27.5%"},{"$f":"mask!E21","v":{"v":2.7361784801467985,"d":"2.736178"}},{"v":0.02411631185400101,"d":"0.0241"},{"$f":"C8^2/$C$4/(1+SQRT(1-(1+$L$4)*C8^2/$C$4^2))","v":{"v":0.02411631185400101,"d":"0.0241163"}},null,null,{"$f":"$F$4+H25*$K$4","v":{"v":894.5827049162538,"d":"894.58270"}},{"$f":"(H9-H13)/2/$K$4","v":{"v":-0.10412221014043697,"d":"-0.1041222"}},{"$nulls":3},{"$f":"IF(I7>I8,0,1)","v":0}]
[null,{"v":0.4131236491554856,"d":"41.3%"},{"$f":"mask!E22","v":{"v":4.1039703307105935,"d":"4.103970"}},{"v":0.05425383850207807,"d":"0.0543"},{"v":0.05425383850207807,"d":"0.0542538"},null,null,{"$f":"$F$4+H24*$K$4","v":{"v":1135.2329354199753,"d":"1135.23294"}},{"$f":"(H8-H14)/2/$K$4","v":{"v":-0.15456241774968485,"d":"-0.1545624"}},{"$nulls":3},{"$f":"IF(I8>I9,0,1)","v":0}]
[null,{"v":0.5506146360346719,"d":"55.1%"},{"$f":"mask!E23","v":{"v":5.46980579436843,"d":"5.469806"}},{"v":0.09637532583765392,"d":"0.0964"},{"v":0.09637532583765392,"d":"0.0963753"},null,null,{"$f":"$F$4+H23*$K$4","v":{"v":1381.959915521325,"d":"1381.95992"}},{"$f":"(H7-H15)/2/$K$4","v":{"v":-0.2030037060854417,"d":"-0.2030037"}},{"$nulls":3},{"$f":"IF(I9>I10,0,1)","v":0}]
[null,{"v":0.6880784109342855,"d":"68.8%"},{"$f":"mask!E24","v":{"v":6.835370934221191,"d":"6.835371"}},{"v":0.150503368469663,"d":"0.1505"},{"v":0.150503368469663,"d":"0.1505034"},null,null,{"$f":"F4","v":{"v":1632,"d":"1632.00000"}},{"$f":"(H6-H16)/2/$K$4","v":{"v":-0.24886952669583254,"d":"-0.2488695"}},{"$nulls":3},0]
[null,{"v":0.8252823096573436,"d":"82.5%"},{"$f":"mask!E25","v":{"v":8.19835446413605,"d":"8.198354"}},{"v":0.2165087379779407,"d":"0.2165"},{"v":0.2165087379779407,"d":"0.2165087"},null,null,{"$f":"$F$4-H23*$K$4","v":{"v":1882.040084478675,"d":"1882.04008"}},{"$f":"(H5-H17)/2/$K$4","v":{"v":-0.29145178338872574,"d":"-0.2914518"}},{"$nulls":3},0]
[null,{"v":0.962396298923555,"d":"96.2%"},{"$f":"mask!E26","v":{"v":9.560444833506596,"d":"9.560445"}},{"v":0.29442741440871045,"d":"0.2944"},{"v":0.29442741440871045,"d":"0.2944274"},null,null,{"v":2128.767064580025,"d":"2128.76706"},{"$f":"(H4-H18)/2/$K$4","v":{"v":-0.33017868371576914,"d":"-0.3301787"}},{"$nulls":3},0]
[null,{"v":1,"d":"100.0%"},{"$f":"mask!E27","v":{"v":9.934,"d":"9.934000"}},{"v":0.3178852352240463,"d":"0.31789"},{"$nulls":3},{"v":2369.4172950837465,"d":"2369.41730"},null,null,"Ray Crossings",null,{"$f":"SUM(M8:M13)","v":0}]
[{"$nulls":7},{"v":2600.5306817336423,"d":"2600.53068"}]
[{"$nulls":7},{"v":2819.356511865817,"d":"2819.35651"}]
[{"$nulls":7},{"v":3022.5164585476105,"d":"3022.51646"}]
[{"$nulls":7},{"v":3207.2825000079347,"d":"3207.28250"}]
[]
[{"$nulls":3},"simulate ctr s","q w/t n","set simulated l ","solver zero"]
[{"$nulls":4},{"$f":"F21+$G$4","v":{"v":4.563564397358212,"d":"4.56356"}},{"v":1.3640053422401017,"d":"1.36401"},{"$f":"($E$4-120)/2/$K$4+$H$29","v":{"v":-6.880109008456925E-4,"d":"-0.0007"}}]
[null,"z","z'","e","c","N","Yn","Yz"]
[null,{"$f":"E7","v":{"v":0.006034902642685264,"d":"0.0060349"}},{"$f":"C7/($C$4-B23*(1+$L$4))","v":{"v":8.818123004472227E-3,"d":"0.00882"}},{"$f":"-($F$21+$C$4)*C23+B23*C23+C7","v":-0.011974750372807152},{"$f":"-D23*C23/(1+C23^2)","v":{"v":1.0558661139497679E-4,"d":"0.0001056"}},{"$f":"$F$21-2*E23+$C$4","v":{"v":156.58389416901733,"d":"156.583894"}},{"$f":"-2*E23/C23","v":-0.023947638594160492},{"$f":"G23-(C7-G23)*($E$21-F23+$C$4)/(F23-B23)","v":{"v":-0.05240831785342172,"d":"-0.05241"}}]
[null,{"$f":"E8","v":{"v":0.02411631185400101,"d":"0.0241163"}},{"v":0.017627733007173674,"d":"0.01763"},-0.023619206086887168,{"v":4.1622372264223762E-4,"d":"0.0004162"},{"v":156.58327289479482,"d":"156.583273"},-0.04722373801246635,{"$f":"G24-(C8-G24)*($E$21-F24+$C$4)/(F24-B24)","v":{"v":-0.10412221014043696,"d":"-0.10412"}}]
[null,{"v":0.05425383850207807,"d":"0.0542538"},{"v":0.026439683589371436,"d":"0.02644"},-0.034629415339535896,{"v":9.149511815546242E-4,"d":"0.0009150"},{"v":156.582275439877,"d":"156.582275"},-0.06921044863959175,{"v":-0.15456241774968482,"d":"-0.15456"}]
[null,{"v":0.09637532583765392,"d":"0.0963753"},{"v":0.035239030218176835,"d":"0.03524"},-0.04467005245347355,{"v":1.5721770157371313E-3,"d":"0.0015722"},{"v":156.58096098820863,"d":"156.580961"},-0.08922930092021535,{"v":-0.20300370608544172,"d":"-0.20300"}]
[null,{"v":0.150503368469663,"d":"0.1505034"},{"v":0.044036635295436555,"d":"0.04404"},-0.05343854384922153,{"v":0.002348699009787294,"d":"0.0023487"},{"v":156.57940794422052,"d":"156.579408"},-0.10667023009501754,{"v":-0.2488695266958325,"d":"-0.24887"}]
[null,{"v":0.2165087379779407,"d":"0.2165087"},{"v":0.05281760844205132,"d":"0.05282"},-0.06060802633250084,{"v":3.19226554085747E-3,"d":"0.0031923"},156.5777208111584,-0.12087883700224157,{"v":-0.2914517833887257,"d":"-0.29145"}]
[null,{"v":0.29442741440871045,"d":"0.2944274"},{"v":0.061592827433474114,"d":"0.06159"},-0.06587832873557176,{"v":0.00404229736533447,"d":"0.0040423"},{"v":156.57602074750943,"d":"156.576021"},-0.13125870442302787,{"v":-0.3301786837157692,"d":"-0.33018"}]